BEGIN:VCALENDAR
VERSION:2.0
PRODID:-//Hospital | Appleton Area Health | United States - ECPv6.15.20//NONSGML v1.0//EN
CALSCALE:GREGORIAN
METHOD:PUBLISH
X-ORIGINAL-URL:https://appletonareahealth.com
X-WR-CALDESC:Events for Hospital | Appleton Area Health | United States
REFRESH-INTERVAL;VALUE=DURATION:PT1H
X-Robots-Tag:noindex
X-PUBLISHED-TTL:PT1H
BEGIN:VTIMEZONE
TZID:UTC
BEGIN:STANDARD
TZOFFSETFROM:+0000
TZOFFSETTO:+0000
TZNAME:UTC
DTSTART:20240101T000000
END:STANDARD
END:VTIMEZONE
BEGIN:VEVENT
DTSTART;VALUE=DATE:20251224
DTEND;VALUE=DATE:20251225
DTSTAMP:20260419T190952
CREATED:20251207T032748Z
LAST-MODIFIED:20251207T032748Z
UID:10000024-1766534400-1766620799@appletonareahealth.com
SUMMARY:Christmas Eve - Clinic Closing at 12:00 PM
DESCRIPTION:
URL:https://appletonareahealth.com/event/christmas-eve-clinic-closing-at-1200-pm/
END:VEVENT
BEGIN:VEVENT
DTSTART;VALUE=DATE:20251225
DTEND;VALUE=DATE:20251226
DTSTAMP:20260419T190952
CREATED:20251207T033133Z
LAST-MODIFIED:20251207T033133Z
UID:10000025-1766620800-1766707199@appletonareahealth.com
SUMMARY:Christmas Day - Clinic Closed
DESCRIPTION:
URL:https://appletonareahealth.com/event/christmas-day-clinic-closed-2/
END:VEVENT
END:VCALENDAR