BEGIN:VCALENDAR
VERSION:2.0
PRODID:-//Hospital | Appleton Area Health | United States - ECPv6.15.20//NONSGML v1.0//EN
CALSCALE:GREGORIAN
METHOD:PUBLISH
X-WR-CALNAME:Hospital | Appleton Area Health | United States
X-ORIGINAL-URL:https://appletonareahealth.com
X-WR-CALDESC:Events for Hospital | Appleton Area Health | United States
REFRESH-INTERVAL;VALUE=DURATION:PT1H
X-Robots-Tag:noindex
X-PUBLISHED-TTL:PT1H
BEGIN:VTIMEZONE
TZID:UTC
BEGIN:STANDARD
TZOFFSETFROM:+0000
TZOFFSETTO:+0000
TZNAME:UTC
DTSTART:20250101T000000
END:STANDARD
END:VTIMEZONE
BEGIN:VEVENT
DTSTART;TZID=UTC:20260122T080000
DTEND;TZID=UTC:20260122T170000
DTSTAMP:20260418T233353
CREATED:20260109T151526Z
LAST-MODIFIED:20260109T151526Z
UID:10000033-1769068800-1769101200@appletonareahealth.com
SUMMARY:AAH @ SDSU Nursing Career Fair
DESCRIPTION:
URL:https://appletonareahealth.com/event/aah-sdsu-nursing-career-fair/
END:VEVENT
END:VCALENDAR